BEGIN:VCALENDAR
VERSION:2.0
PRODID:-//SAJM - Séminaire de Morannes - ECPv5.8.1//NONSGML v1.0//EN
CALSCALE:GREGORIAN
METHOD:PUBLISH
X-WR-CALNAME:SAJM - Séminaire de Morannes
X-ORIGINAL-URL:https://apotresdejesusetdemarie.fr
X-WR-CALDESC:évènements pour SAJM - Séminaire de Morannes
BEGIN:VTIMEZONE
TZID:UTC
BEGIN:STANDARD
TZOFFSETFROM:+0000
TZOFFSETTO:+0000
TZNAME:UTC
DTSTART:20240101T000000
END:STANDARD
END:VTIMEZONE
BEGIN:VEVENT
DTSTART;VALUE=DATE:20240328
DTEND;VALUE=DATE:20240401
DTSTAMP:20260415T062108
CREATED:20240322T154821Z
LAST-MODIFIED:20240323T145050Z
UID:3239-1711584000-1711929599@apotresdejesusetdemarie.fr
SUMMARY:Triduum pascal
DESCRIPTION:Les horaires détaillés de la Semaine Sainte se trouvent sur le lien suivant: \nSemaine Sainte au Séminaire
URL:https://apotresdejesusetdemarie.fr/event/triduum-pascal/
LOCATION:Morannes\, 8 rue du docteur Picard\, Morannes\, 49640\, France
END:VEVENT
END:VCALENDAR