BEGIN:VCALENDAR
VERSION:2.0
PRODID:-//SAJM - Séminaire de Morannes - ECPv5.8.1//NONSGML v1.0//EN
CALSCALE:GREGORIAN
METHOD:PUBLISH
X-WR-CALNAME:SAJM - Séminaire de Morannes
X-ORIGINAL-URL:https://apotresdejesusetdemarie.fr
X-WR-CALDESC:évènements pour SAJM - Séminaire de Morannes
BEGIN:VTIMEZONE
TZID:UTC
BEGIN:STANDARD
TZOFFSETFROM:+0000
TZOFFSETTO:+0000
TZNAME:UTC
DTSTART:20260101T000000
END:STANDARD
END:VTIMEZONE
BEGIN:VEVENT
DTSTART;TZID=UTC:20260524T150000
DTEND;TZID=UTC:20260524T154500
DTSTAMP:20260425T125226
CREATED:20260425T090000Z
LAST-MODIFIED:20260425T092756Z
UID:4321-1779634800-1779637500@apotresdejesusetdemarie.fr
SUMMARY:Confirmations à Morannes
DESCRIPTION:Pour toute demande\, merci de contacter le secrétariat: sajm.secretariat@gmail.com En nous contactant\, veuillez indiquer si vous avez eu une préparation à la confirmation et par quel prêtre. Rappel: pour toute demande de confirmation\, il est impératif de fournir un certificat récent de baptême (moins de 6 mois). N’attendez cependant pas de l’avoir pour nous contacter.
URL:https://apotresdejesusetdemarie.fr/event/confirmations-a-morannes/
LOCATION:Morannes\, 8 rue du docteur Picard\, Morannes\, 49640\, France
END:VEVENT
END:VCALENDAR