BEGIN:VCALENDAR
VERSION:2.0
PRODID:-//SAJM - Séminaire de Morannes - ECPv5.8.1//NONSGML v1.0//EN
CALSCALE:GREGORIAN
METHOD:PUBLISH
X-WR-CALNAME:SAJM - Séminaire de Morannes
X-ORIGINAL-URL:https://apotresdejesusetdemarie.fr
X-WR-CALDESC:évènements pour SAJM - Séminaire de Morannes
BEGIN:VTIMEZONE
TZID:UTC
BEGIN:STANDARD
TZOFFSETFROM:+0000
TZOFFSETTO:+0000
TZNAME:UTC
DTSTART:20230101T000000
END:STANDARD
END:VTIMEZONE
BEGIN:VEVENT
DTSTART;TZID=UTC:20260404T223000
DTEND;TZID=UTC:20260405T004500
DTSTAMP:20260419T121942
CREATED:20260320T093000Z
LAST-MODIFIED:20260320T094251Z
UID:4277-1775341800-1775349900@apotresdejesusetdemarie.fr
SUMMARY:Vigile pascale
DESCRIPTION:Vigile pascale\ncélébrant: abbé Remi Picot
URL:https://apotresdejesusetdemarie.fr/event/vigile-pascale/
LOCATION:Morannes\, 8 rue du docteur Picard\, Morannes\, 49640\, France
END:VEVENT
BEGIN:VEVENT
DTSTART;TZID=UTC:20260403T170000
DTEND;TZID=UTC:20260403T183000
DTSTAMP:20260419T121942
CREATED:20260320T091500Z
LAST-MODIFIED:20260320T094228Z
UID:4276-1775235600-1775241000@apotresdejesusetdemarie.fr
SUMMARY:Action liturgique
DESCRIPTION:Action liturgique du Vendredi saint.\nPrécédée du Chemin de croix à 16h00\n(Confessions à 15h)\nCélébrant: abbé Remi Picot
URL:https://apotresdejesusetdemarie.fr/event/action-liturgique/
LOCATION:Morannes\, 8 rue du docteur Picard\, Morannes\, 49640\, France
END:VEVENT
BEGIN:VEVENT
DTSTART;TZID=UTC:20260402T180000
DTEND;TZID=UTC:20260402T234500
DTSTAMP:20260419T121942
CREATED:20260320T090000Z
LAST-MODIFIED:20260320T090000Z
UID:4275-1775152800-1775173500@apotresdejesusetdemarie.fr
SUMMARY:Messe Vespérale
DESCRIPTION:Messe vespérale à 18h00\nprécédée des confessions une heure avant la messe.\nCélébrant: abbé Remi Picot
URL:https://apotresdejesusetdemarie.fr/event/messe-vesperale/
LOCATION:Morannes\, 8 rue du docteur Picard\, Morannes\, 49640\, France
END:VEVENT
BEGIN:VEVENT
DTSTART;TZID=UTC:20260402T090000
DTEND;TZID=UTC:20260402T110000
DTSTAMP:20260419T121942
CREATED:20260308T131500Z
LAST-MODIFIED:20260308T131500Z
UID:4273-1775120400-1775127600@apotresdejesusetdemarie.fr
SUMMARY:Messe chrismale
DESCRIPTION:Messe basse de l’évêque et consécration des huiles.\nCélébrant: S.E. Mgr Jean-Michel Faure
URL:https://apotresdejesusetdemarie.fr/event/messe-chrismale-4/
LOCATION:Avrillé\, Couvent de la Haye aux Bonshommes\, Avrillé\, 49240
END:VEVENT
BEGIN:VEVENT
DTSTART;TZID=UTC:20260329T093000
DTEND;TZID=UTC:20260329T121500
DTSTAMP:20260419T121942
CREATED:20260320T093000Z
LAST-MODIFIED:20260320T093000Z
UID:4278-1774776600-1774786500@apotresdejesusetdemarie.fr
SUMMARY:Bénédiction des Rameaux
DESCRIPTION:Bénédiction des rameaux suivie de la messe\nà 9h00: confessions
URL:https://apotresdejesusetdemarie.fr/event/benediction-des-rameaux/
LOCATION:Morannes\, 8 rue du docteur Picard\, Morannes\, 49640\, France
END:VEVENT
BEGIN:VEVENT
DTSTART;TZID=UTC:20251108T150000
DTEND;TZID=UTC:20251108T161500
DTSTAMP:20260419T121942
CREATED:20251020T144500Z
LAST-MODIFIED:20251020T164149Z
UID:4144-1762614000-1762618500@apotresdejesusetdemarie.fr
SUMMARY:Confirmations à Morannes
DESCRIPTION:Pour toute demande\, merci de contacter le secrétariat: sajm.secretariat@gmail.com\nEn nous contactant\, veuillez indiquer si vous avez eu une préparation à la confirmation et par quel prêtre.\nRappel: pour toute demande de confirmation\, il est impératif de fournir un certificat récent de baptême (moins de 6 mois). N’attendez cependant pas de l’avoir pour nous contacter.
URL:https://apotresdejesusetdemarie.fr/event/confirmations-a-morannes-2/
LOCATION:Morannes\, 8 rue du docteur Picard\, Morannes\, 49640\, France
END:VEVENT
BEGIN:VEVENT
DTSTART;VALUE=DATE:20250914
DTEND;VALUE=DATE:20250915
DTSTAMP:20260419T121942
CREATED:20250222T104500Z
LAST-MODIFIED:20250222T104500Z
UID:3799-1757808000-1757894399@apotresdejesusetdemarie.fr
SUMMARY:Rentrée du séminaire
DESCRIPTION:Rentrée des séminaristes
URL:https://apotresdejesusetdemarie.fr/event/rentree-du-seminaire-3/
LOCATION:Morannes\, 8 rue du docteur Picard\, Morannes\, 49640\, France
END:VEVENT
BEGIN:VEVENT
DTSTART;VALUE=DATE:20250714
DTEND;VALUE=DATE:20250720
DTSTAMP:20260419T121942
CREATED:20250222T143452Z
LAST-MODIFIED:20250223T203531Z
UID:3797-1752451200-1752969599@apotresdejesusetdemarie.fr
SUMMARY:Retraite pour dames
DESCRIPTION:RETRAITE POUR DAMES JUILLET 2025\nUne retraite pour dames sera prêchée à Morannes du 14 au 19 juillet par Monsieur l’abbé Picot.\nVous pouvez vous inscrire en ligne: https://www.helloasso.com/associations/seminaire-saint-louis-marie/evenements/retraite-pour-dames\nou par mail: sajm.secretariat@gmail.com\nou par courrier postal:\nSéminaire Saint Louis Marie\n8 rue du docteur Picard\n49640 Morannes- sur-Sarthe\nQu’aucune difficulté financière ne soit un obstacle à la participation à cette retraite\, n’hésitez pas à nous contacter si nécessaire.
URL:https://apotresdejesusetdemarie.fr/event/retraite-pour-dames-2/
LOCATION:Morannes\, 8 rue du docteur Picard\, Morannes\, 49640\, France
END:VEVENT
BEGIN:VEVENT
DTSTART;VALUE=DATE:20250707
DTEND;VALUE=DATE:20250713
DTSTAMP:20260419T121942
CREATED:20241212T120000Z
LAST-MODIFIED:20241212T185524Z
UID:3669-1751846400-1752364799@apotresdejesusetdemarie.fr
SUMMARY:Retraite d'hommes (Saint Ignace)
DESCRIPTION:Exercices spirituels de Saint Ignace\nPrêchés au séminaire de Morannes par les abbés Dominique Rousseau et Renoult.\nInscriptions et renseignements auprès de l’abbé Dominique Rousseau: https://havresaintjoseph-tradition.fr/29024-2/\nNombre de places limité (une dizaine): Inscrivez vous sans tarder !
URL:https://apotresdejesusetdemarie.fr/event/retraite-dhommes/
LOCATION:Morannes\, 8 rue du docteur Picard\, Morannes\, 49640\, France
END:VEVENT
BEGIN:VEVENT
DTSTART;TZID=UTC:20250619T100000
DTEND;TZID=UTC:20250619T113000
DTSTAMP:20260419T121942
CREATED:20250527T084905Z
LAST-MODIFIED:20250527T084905Z
UID:4017-1750327200-1750332600@apotresdejesusetdemarie.fr
SUMMARY:Première messe à Avrillé
DESCRIPTION:Première messe de l’abbé Renoult pour la Fête Dieu
URL:https://apotresdejesusetdemarie.fr/event/premiere-messe-a-avrille-2/
LOCATION:Avrillé\, Couvent de la Haye aux Bonshommes\, Avrillé\, 49240
END:VEVENT
BEGIN:VEVENT
DTSTART;TZID=UTC:20250609T083000
DTEND;TZID=UTC:20250609T164500
DTSTAMP:20260419T121942
CREATED:20250331T165817Z
LAST-MODIFIED:20250331T150132Z
UID:3924-1749457800-1749487500@apotresdejesusetdemarie.fr
SUMMARY:Pèlerinage du lundi de Pentecôte
DESCRIPTION:Pèlerinage du lundi de Pentecôte\nA Notre-Dame du Chêne\, à pied depuis le séminaire (18 km).\nMesse chantée à 8:30\nA la suite de la messe : petit déjeuner tiré du sac et départ.\nParcours adapté aux poussettes.\nVous êtes tous invités !\n(possibilité de nous rejoindre au déjeuner)
URL:https://apotresdejesusetdemarie.fr/event/pelerinage-de-pentecote-2/
LOCATION:Morannes\, 8 rue du docteur Picard\, Morannes\, 49640\, France
END:VEVENT
BEGIN:VEVENT
DTSTART;TZID=UTC:20250608T103000
DTEND;TZID=UTC:20250608T235959
DTSTAMP:20260419T121942
CREATED:20250115T081418Z
LAST-MODIFIED:20250417T083050Z
UID:3736-1749378600-1749427199@apotresdejesusetdemarie.fr
SUMMARY:Première Messe à Chantemerle
DESCRIPTION:Première messe de l’abbé Paul Renoult\nassisté de monsieur l’abbé D. Rousseau\nchapelle de Chantemerle\n79320 Moncoutant-sur-Sèvre\nM9FH+F3 Moncoutant-sur-Sèvre\, France
URL:https://apotresdejesusetdemarie.fr/event/premiere-messe-chantemerle/
LOCATION:Chantemerle\, Moncoutant sur Sèvre\, 79320
END:VEVENT
BEGIN:VEVENT
DTSTART;TZID=UTC:20250601T110000
DTEND;TZID=UTC:20250601T121500
DTSTAMP:20260419T121942
CREATED:20250526T183237Z
LAST-MODIFIED:20250526T183237Z
UID:3979-1748775600-1748780100@apotresdejesusetdemarie.fr
SUMMARY:Première messe à Avrillé
DESCRIPTION:Première messe de l’abbé Renoult au Couvent de la Haye aux Bonshommes
URL:https://apotresdejesusetdemarie.fr/event/premiere-messe-a-avrille/
LOCATION:Avrillé\, Couvent de la Haye aux Bonshommes\, Avrillé\, 49240
END:VEVENT
BEGIN:VEVENT
DTSTART;TZID=UTC:20250525T100000
DTEND;TZID=UTC:20250525T113000
DTSTAMP:20260419T121942
CREATED:20241205T164314Z
LAST-MODIFIED:20241205T164314Z
UID:3637-1748167200-1748172600@apotresdejesusetdemarie.fr
SUMMARY:Première messe
DESCRIPTION:Première messe solennelle de l’abbé Renoult.\nMême lieu que l’ordination\, tout proche du séminaire.
URL:https://apotresdejesusetdemarie.fr/event/premiere-messe/
LOCATION:Morannes\, 8 rue du docteur Picard\, Morannes\, 49640\, France
END:VEVENT
BEGIN:VEVENT
DTSTART;TZID=UTC:20250524T100000
DTEND;TZID=UTC:20250524T130000
DTSTAMP:20260419T121942
CREATED:20241205T164021Z
LAST-MODIFIED:20250406T195332Z
UID:3636-1748080800-1748091600@apotresdejesusetdemarie.fr
SUMMARY:Ordination sacerdotale
DESCRIPTION:Ordinations au sacerdoce et au diaconat\, tout proche du séminaire.\nPossibilité de pique-niquer au séminaire après la cérémonie
URL:https://apotresdejesusetdemarie.fr/event/ordinations-majeures/
LOCATION:Morannes\, 8 rue du docteur Picard\, Morannes\, 49640\, France
END:VEVENT
BEGIN:VEVENT
DTSTART;TZID=UTC:20250417T090000
DTEND;TZID=UTC:20250417T113000
DTSTAMP:20260419T121942
CREATED:20250322T103000Z
LAST-MODIFIED:20250405T163055Z
UID:3916-1744880400-1744889400@apotresdejesusetdemarie.fr
SUMMARY:Messe chrismale
DESCRIPTION:Messe de consécration des huiles.\nAfin d’alléger le programme des prêtres présents et du Couvent qui nous reçoit pour la cérémonie\, la messe sera une messe basse de l’évêque (forme plus solennelle de la messe basse).
URL:https://apotresdejesusetdemarie.fr/event/messe-chrismale-2/
LOCATION:Avrillé\, Couvent de la Haye aux Bonshommes\, Avrillé\, 49240
END:VEVENT
BEGIN:VEVENT
DTSTART;VALUE=DATE:20250301
DTEND;VALUE=DATE:20250302
DTSTAMP:20260419T121942
CREATED:20241114T150931Z
LAST-MODIFIED:20241114T150931Z
UID:3541-1740787200-1740787200@apotresdejesusetdemarie.fr
SUMMARY:Sous diaconat
DESCRIPTION:Ordination au sous-diaconat et aux ordres mineurs
URL:https://apotresdejesusetdemarie.fr/event/sous-diaconat/
LOCATION:Avrillé\, Couvent de la Haye aux Bonshommes\, Avrillé\, 49240
END:VEVENT
BEGIN:VEVENT
DTSTART;VALUE=DATE:20240914
DTEND;VALUE=DATE:20240915
DTSTAMP:20260419T121942
CREATED:20240429T153723Z
LAST-MODIFIED:20240429T153723Z
UID:3248-1726272000-1726272000@apotresdejesusetdemarie.fr
SUMMARY:Rentrée du séminaire
DESCRIPTION:Rentrée des séminaristes
URL:https://apotresdejesusetdemarie.fr/event/rentree-du-seminaire-2/
LOCATION:Morannes\, 8 rue du docteur Picard\, Morannes\, 49640\, France
END:VEVENT
BEGIN:VEVENT
DTSTART;VALUE=DATE:20240715
DTEND;VALUE=DATE:20240721
DTSTAMP:20260419T121942
CREATED:20240208T202723Z
LAST-MODIFIED:20240208T202723Z
UID:3066-1721001600-1721519999@apotresdejesusetdemarie.fr
SUMMARY:Retraite pour dames
DESCRIPTION:Retraite pour dames et jeunes filles\, prêchée par M. l’abbé Dominique Rousseau.\nInscription et renseignements à cette adresse:\ninfo@saintjoseph-tradition.org
URL:https://apotresdejesusetdemarie.fr/event/retraite-pour-dames/
LOCATION:Morannes\, 8 rue du docteur Picard\, Morannes\, 49640\, France
END:VEVENT
BEGIN:VEVENT
DTSTART;TZID=UTC:20240627T100000
DTEND;TZID=UTC:20240627T123000
DTSTAMP:20260419T121942
CREATED:20240412T153930Z
LAST-MODIFIED:20240430T133518Z
UID:3245-1719482400-1719491400@apotresdejesusetdemarie.fr
SUMMARY:Ordination diaconale
DESCRIPTION:Ordination diaconale d’un de nos séminaristes.\nUn frère dominicain recevra également le sacerdoce.\npar S.E. Mgr Jean-Michel Faure
URL:https://apotresdejesusetdemarie.fr/event/ordination-diaconale/
LOCATION:Avrillé\, Couvent de la Haye aux Bonshommes\, Avrillé\, 49240
END:VEVENT
BEGIN:VEVENT
DTSTART;VALUE=DATE:20240520
DTEND;VALUE=DATE:20240521
DTSTAMP:20260419T121942
CREATED:20240311T113028Z
LAST-MODIFIED:20240311T113028Z
UID:3171-1716163200-1716249599@apotresdejesusetdemarie.fr
SUMMARY:Pélerinage à Notre Dame du Chêne
DESCRIPTION:Pélerinage au sanctuaire local de Notre Dame du Chêne.\nLe programme détaillé sera communiqué ultérieurement.
URL:https://apotresdejesusetdemarie.fr/event/pelerinage-a-notre-dame-du-chene/
LOCATION:Morannes\, 8 rue du docteur Picard\, Morannes\, 49640\, France
END:VEVENT
BEGIN:VEVENT
DTSTART;TZID=UTC:20240328T090000
DTEND;TZID=UTC:20240328T113000
DTSTAMP:20260419T121942
CREATED:20240208T203114Z
LAST-MODIFIED:20240208T203114Z
UID:3068-1711616400-1711625400@apotresdejesusetdemarie.fr
SUMMARY:Messe chrismale
DESCRIPTION:Messe chrismale célébrée au Couvent de la Haye aux Bonshommes par S.E. Mgr Jean Michel Faure
URL:https://apotresdejesusetdemarie.fr/event/messe-chrismale/
LOCATION:Avrillé\, Couvent de la Haye aux Bonshommes\, Avrillé\, 49240
END:VEVENT
BEGIN:VEVENT
DTSTART;VALUE=DATE:20240328
DTEND;VALUE=DATE:20240401
DTSTAMP:20260419T121942
CREATED:20240322T154821Z
LAST-MODIFIED:20240323T145050Z
UID:3239-1711584000-1711929599@apotresdejesusetdemarie.fr
SUMMARY:Triduum pascal
DESCRIPTION:Les horaires détaillés de la Semaine Sainte se trouvent sur le lien suivant:\nhttps://apotresdejesusetdemarie.fr/horaires-semaine-sainte-2024/
URL:https://apotresdejesusetdemarie.fr/event/triduum-pascal/
LOCATION:Morannes\, 8 rue du docteur Picard\, Morannes\, 49640\, France
END:VEVENT
BEGIN:VEVENT
DTSTART;TZID=UTC:20240316T100000
DTEND;TZID=UTC:20240316T114500
DTSTAMP:20260419T121942
CREATED:20240301T143000Z
LAST-MODIFIED:20240301T143000Z
UID:3168-1710583200-1710589500@apotresdejesusetdemarie.fr
SUMMARY:Ordination au sous-diaconat
DESCRIPTION:Ordination au sous diaconat\npar S.E. Mgr Jean-Michel Faure
URL:https://apotresdejesusetdemarie.fr/event/ordination-au-sous-diaconat/
LOCATION:Morannes\, 8 rue du docteur Picard\, Morannes\, 49640\, France
END:VEVENT
BEGIN:VEVENT
DTSTART;TZID=UTC:20240210T100000
DTEND;TZID=UTC:20240210T123000
DTSTAMP:20260419T121942
CREATED:20240127T172228Z
LAST-MODIFIED:20240128T163807Z
UID:3061-1707559200-1707568200@apotresdejesusetdemarie.fr
SUMMARY:Ordres mineurs
DESCRIPTION:Ordres mineurs au séminaire de Morannes.\nPar Son Excellence Mgr Jean Michel Faure
URL:https://apotresdejesusetdemarie.fr/event/ordres-mineurs/
LOCATION:Morannes\, 8 rue du docteur Picard\, Morannes\, 49640\, France
END:VEVENT
BEGIN:VEVENT
DTSTART;TZID=UTC:20230624T100000
DTEND;TZID=UTC:20230624T130000
DTSTAMP:20260419T121942
CREATED:20230223T005623Z
LAST-MODIFIED:20241127T121334Z
UID:2349-1687600800-1687611600@apotresdejesusetdemarie.fr
SUMMARY:Ordination sacerdotale
DESCRIPTION:Ordination sacerdotale de l’abbé Eymeric Blanchet.
URL:https://apotresdejesusetdemarie.fr/event/ordination-sacerdotale-2-2/
LOCATION:Avrillé\, Couvent de la Haye aux Bonshommes\, Avrillé\, 49240
END:VEVENT
END:VCALENDAR